BEGIN:VCALENDAR
VERSION:2.0
PRODID:-//glitch Buchladen München - ECPv6.5.0//NONSGML v1.0//EN
CALSCALE:GREGORIAN
METHOD:PUBLISH
X-WR-CALNAME:glitch Buchladen München
X-ORIGINAL-URL:https://glitchbookstore.de
X-WR-CALDESC:Veranstaltungen für glitch Buchladen München
REFRESH-INTERVAL;VALUE=DURATION:PT1H
X-Robots-Tag:noindex
X-PUBLISHED-TTL:PT1H
BEGIN:VTIMEZONE
TZID:Europe/Berlin
BEGIN:DAYLIGHT
TZOFFSETFROM:+0100
TZOFFSETTO:+0200
TZNAME:CEST
DTSTART:20260329T010000
END:DAYLIGHT
BEGIN:STANDARD
TZOFFSETFROM:+0200
TZOFFSETTO:+0100
TZNAME:CET
DTSTART:20261025T010000
END:STANDARD
END:VTIMEZONE
BEGIN:VEVENT
DTSTART;TZID=Europe/Berlin:20260215T200000
DTEND;TZID=Europe/Berlin:20260425T190000
DTSTAMP:20260422T144525
CREATED:20260215T181125Z
LAST-MODIFIED:20260418T085850Z
UID:3493-1771185600-1777143600@glitchbookstore.de
SUMMARY:Ausstellung: Alex Hlawitschka „próbki“- Auftakt des queering spaces Jahresprogramms
DESCRIPTION:Wir laden euch herzlich zur ersten Ausstellung unseres Jahresprogramms queering spaces ein! \nAlex Hlawitschka aus dem glitch Kollektiv arbeitet u.a. mit Nagellack\, Glitzer und Make-Up. Materialien und Motive\, die gerne mal als mädchenhaft belächelt oder als trivial abgetan werden. Genau deshalb nutzt sie sie\, gibt ihnen Raum und Aufmerksamkeit. In ihren Arbeiten aus Malerei\, Fotografie und Skulptur treffen das Halbtransparente\, Glitzernde\, Glänzende von Nagellack und Make-Up auf Acryl\, Draht\, Holz. Dazu kommen Fotografien aus dem Alltag\, meist analog – mal weich und verträumt\, mal mit harten Kontrasten. \nDie Ausstellung läuft von Februar bis Ende April 2026 und markiert den Auftakt unseres einjährigen queering spaces Ausstellungsprogramms.
URL:https://glitchbookstore.de/veranstaltungen/ausstellung-alex-hlawitschka-probki-auftakt-des-queering-spaces-jahresprogramms/
LOCATION:glitch bookstore\, Barerstr. 70\, München\, 80799\, Deutschland
CATEGORIES:Ausstellung
ATTACH;FMTTYPE=image/png:https://glitchbookstore.de/wp-content/uploads/2026/01/Alex_Queering-Spaces.png
END:VEVENT
BEGIN:VEVENT
DTSTART;TZID=Europe/Berlin:20260421T200000
DTEND;TZID=Europe/Berlin:20260421T220000
DTSTAMP:20260422T144525
CREATED:20260403T174318Z
LAST-MODIFIED:20260403T174345Z
UID:3525-1776801600-1776808800@glitchbookstore.de
SUMMARY:Lesung und Gespräch: Radical Transformation mit Lisa Jaspers
DESCRIPTION:Wie kann Wissen über Gefühle die Welt verändern? Wie können uns neue Werkzeuge des Spürens\, Fühlens und Verbindens helfen\, in Zeiten allgegenwärtiger Konflikte und wachsender Spaltung bessere Wege zu gesellschaftlichem Zusammenhalt und Handlungsfähigkeit zu finden – und vielleicht die Welt zu retten (zumindest ein bisschen)? Damit beschäftigen sich Lisa Jaspers und ihre Co-Autorinnen Naomi Ryland und Soraida Velazquez Reve in ihrem neuen Buch “Radical Transformations”. \nLisa Jaspers ist Unternehmerin\, Aktivistin\, Autorin und Speakerin. Ihre Arbeit wird von dem Gedanken angetrieben\, dass eine Wirtschaft\, die wirklich menschenzentriert ist und in der wir uns alle entfalten dürfen\, ein wichtiger Motor für einen systemischen Wandel sein kann. Deshalb bezeichnet sie sich als Systempreneurin – und engagiert sich täglich gemeinsam mit vielen anderen Menschen für eine Welt frei von Ausbeutung.\n \nAnmeldung erforderlich über https://www.eventbrite.de/e/radical-transformation-lesung-und-gesprach-tickets-1986551344548?aff=oddtdtcreator \nEinlass: 19:30 Uhr\, Beginn: 20 Uhr\nEintritt frei\, wir freuen uns über Spenden 🫶 \nDie Veranstaltung findet im Rahmen von ‚Queering Spaces‘\, dem Jahres-Ausstellungsprogramm 2026 im glitch\, statt. Das Programm wird vom Kulturreferat der Stadt München gefördert.
URL:https://glitchbookstore.de/veranstaltungen/lesung-und-gespraech-radical-transformation-mit-lisa-jaspers/
LOCATION:glitch bookstore\, Barerstr. 70\, München\, 80799\, Deutschland
CATEGORIES:Gespräch,Lesung
ATTACH;FMTTYPE=image/png:https://glitchbookstore.de/wp-content/uploads/2026/04/Bildschirmfoto-2026-04-02-um-23.16.12.png
END:VEVENT
END:VCALENDAR